BEGIN:VCALENDAR
PRODID:-//eluceo/ical//2.0/EN
VERSION:2.0
CALSCALE:GREGORIAN
BEGIN:VEVENT
UID:61c584a6c61696a19f3e24d2a1789311
DTSTAMP:20260420T122121Z
SUMMARY:Stödkonsert för Ukraina
DESCRIPTION:
URL:https://sollentuna.rotary2355.se/sv/agenda/show/214797
DTSTART;TZID=Europe/Zurich:20251109T120000
DTEND;TZID=Europe/Zurich:20251109T130000
LOCATION:Högalidskyrkan
CATEGORIES:Rotary
END:VEVENT
BEGIN:VTIMEZONE
TZID:Europe/Zurich
BEGIN:STANDARD
DTSTART:20251109T120000
TZNAME:CET
TZOFFSETTO:+0100
TZOFFSETFROM:+0100
END:STANDARD
END:VTIMEZONE
END:VCALENDAR
